BEGIN:VCALENDAR
VERSION:2.0
PRODID:calendify.com
BEGIN:VEVENT
UID:calendify-session-RXEMXb634Ky
DTSTART:20220723T110000Z
SEQUENCE:0
TRANSP:OPAQUE
DTEND:20220723T115000Z
URL:https://calendify.com/session/RXEMXb634Ky
LOCATION:Clairvoyance 🔮
SUMMARY:Digital Civil Disobedience
CLASS:PUBLIC
DESCRIPTION:https://calendify.com/session/RXEMXb634Ky
DTSTAMP:20260423T230449Z
CREATED:20220620T212434Z
LAST-MODIFIED:20220726T182703Z
END:VEVENT
END:VCALENDAR