BEGIN:VCALENDAR
VERSION:2.0
PRODID:calendify.com
BEGIN:VEVENT
UID:calendify-session-RXEMXbJv4Ky
DTSTART:20220611T170000Z
SEQUENCE:0
TRANSP:OPAQUE
DTEND:20220611T173000Z
URL:https://calendify.com/session/RXEMXbJv4Ky
LOCATION:.txt Box
SUMMARY:Das Wort\, es bringt mich in Verbindung\, es lässt mich formen\, w
 as ich sein kann. Vorstellung des Buches „Dies und Das des Menschseins -
  60 Worte“
CLASS:PUBLIC
DESCRIPTION:https://calendify.com/session/RXEMXbJv4Ky
DTSTAMP:20260421T122521Z
CREATED:20220609T184952Z
LAST-MODIFIED:20220613T235205Z
END:VEVENT
END:VCALENDAR