BEGIN:VCALENDAR
VERSION:2.0
PRODID:calendify.com
BEGIN:VEVENT
UID:calendify-session-RXEMXbN54Ky
DTSTART:20220609T141500Z
SEQUENCE:0
TRANSP:OPAQUE
DTEND:20220609T144500Z
URL:https://calendify.com/session/RXEMXbN54Ky
LOCATION:Lightning Box 2
SUMMARY:KI\, Gender und die Arbeit der Zukunft – was wird diskutiert (und
  was nicht)
CLASS:PUBLIC
DESCRIPTION:https://calendify.com/session/RXEMXbN54Ky
DTSTAMP:20260423T160119Z
CREATED:20220526T162947Z
LAST-MODIFIED:20220613T235204Z
END:VEVENT
END:VCALENDAR