BEGIN:VCALENDAR
VERSION:2.0
PRODID:calendify.com
BEGIN:VEVENT
UID:calendify-session-RXEMXbdD4Ky
DTSTART:20220611T123000Z
SEQUENCE:0
TRANSP:OPAQUE
DTEND:20220611T131500Z
URL:https://calendify.com/session/RXEMXbdD4Ky
LOCATION:The .txt Beach
SUMMARY:\"Zwei Hunde und ein Knochen\" - Theorie und Praxis des Drehbuchsch
 reibens - Anne Rabe mit \"Warten auf'n Bus\" - Staffel 2 Episode 1
CLASS:PUBLIC
DESCRIPTION:https://calendify.com/session/RXEMXbdD4Ky
DTSTAMP:20260423T160643Z
CREATED:20220526T162948Z
LAST-MODIFIED:20220613T235204Z
END:VEVENT
END:VCALENDAR