BEGIN:VCALENDAR
VERSION:2.0
PRODID:calendify.com
BEGIN:VEVENT
UID:calendify-session-RXEMXbe24Ky
DTSTART:20220206T123000Z
SEQUENCE:0
TRANSP:OPAQUE
DTEND:20220206T130000Z
URL:https://calendify.com/session/RXEMXbe24Ky
LOCATION:D.postgresql
SUMMARY:Automatically refresh materialized views in PostgreSQL
CLASS:PUBLIC
DESCRIPTION:https://calendify.com/session/RXEMXbe24Ky
DTSTAMP:20260420T132136Z
CREATED:20220120T214609Z
LAST-MODIFIED:20220206T225004Z
END:VEVENT
END:VCALENDAR