BEGIN:VCALENDAR
VERSION:2.0
PRODID:calendify.com
BEGIN:VEVENT
UID:calendify-session-RXEMXby54Ky
DTSTART:20220610T141500Z
SEQUENCE:0
TRANSP:OPAQUE
DTEND:20220610T144500Z
URL:https://calendify.com/session/RXEMXby54Ky
LOCATION:Stage 3
SUMMARY:Das Prinzip der Respektabilität: Was ist eigentlich professionell?
CLASS:PUBLIC
DESCRIPTION:https://calendify.com/session/RXEMXby54Ky
DTSTAMP:20260422T140804Z
CREATED:20220526T162947Z
LAST-MODIFIED:20220613T235204Z
END:VEVENT
END:VCALENDAR