BEGIN:VCALENDAR
VERSION:2.0
PRODID:calendify.com
BEGIN:VEVENT
UID:calendify-session-RXEMXj154Ky
DTSTART:20260131T170000Z
SEQUENCE:0
TRANSP:OPAQUE
DTEND:20260131T172500Z
URL:https://calendify.com/session/RXEMXj154Ky
LOCATION:AW1.126
SUMMARY:Sustainable observability: how to reduce data bloat and carbon impa
 ct
CLASS:PUBLIC
DESCRIPTION:https://calendify.com/session/RXEMXj154Ky
DTSTAMP:20260424T072455Z
CREATED:20260131T063251Z
LAST-MODIFIED:20260201T163222Z
END:VEVENT
END:VCALENDAR