BEGIN:VCALENDAR
VERSION:2.0
PRODID:calendify.com
BEGIN:VEVENT
UID:calendify-session-RXEMXq1PgKy
DTSTART:20171227T173000Z
SEQUENCE:0
TRANSP:OPAQUE
DTEND:20171227T183000Z
URL:https://calendify.com/session/RXEMXq1PgKy
LOCATION:Saal Dijkstra
SUMMARY:Lets break modern binary code obfuscation
CLASS:PUBLIC
DESCRIPTION:https://calendify.com/session/RXEMXq1PgKy
DTSTAMP:20260423T133905Z
CREATED:20200625T113327Z
LAST-MODIFIED:20200625T113327Z
END:VEVENT
END:VCALENDAR