BEGIN:VCALENDAR
VERSION:2.0
PRODID:calendify.com
BEGIN:VEVENT
UID:calendify-session-RXEMXqRDgKy
DTSTART:20171230T153000Z
SEQUENCE:0
TRANSP:OPAQUE
DTEND:20171230T163000Z
URL:https://calendify.com/session/RXEMXqRDgKy
LOCATION:Saal Borg
SUMMARY:Tracking Transience
CLASS:PUBLIC
DESCRIPTION:https://calendify.com/session/RXEMXqRDgKy
DTSTAMP:20260424T190559Z
CREATED:20200625T113328Z
LAST-MODIFIED:20200625T113328Z
END:VEVENT
END:VCALENDAR