BEGIN:VCALENDAR
VERSION:2.0
PRODID:calendify.com
BEGIN:VEVENT
UID:calendify-session-RXEMXqXPgKy
DTSTART:20201229T203000Z
SEQUENCE:0
TRANSP:OPAQUE
DTEND:20201229T213000Z
URL:https://calendify.com/session/RXEMXqXPgKy
LOCATION:KreaturWorks
SUMMARY:In search of the money commons: on the Pluriverse and Unconditional
  Basic Income
CLASS:PUBLIC
DESCRIPTION:https://calendify.com/session/RXEMXqXPgKy
DTSTAMP:20260424T071419Z
CREATED:20201228T100303Z
LAST-MODIFIED:20210114T154804Z
END:VEVENT
END:VCALENDAR