BEGIN:VCALENDAR
VERSION:2.0
PRODID:calendify.com
BEGIN:VEVENT
UID:calendify-session-RXEMXqd2gKy
DTSTART:20201229T123000Z
SEQUENCE:0
TRANSP:OPAQUE
DTEND:20201229T143000Z
URL:https://calendify.com/session/RXEMXqd2gKy
LOCATION:KreaturWorks
SUMMARY:Workshop: The Regenaissance
CLASS:PUBLIC
DESCRIPTION:https://calendify.com/session/RXEMXqd2gKy
DTSTAMP:20260421T070728Z
CREATED:20201226T224013Z
LAST-MODIFIED:20210114T154804Z
END:VEVENT
END:VCALENDAR