BEGIN:VCALENDAR
VERSION:2.0
PRODID:calendify.com
BEGIN:VEVENT
UID:calendify-session-RXEMXqn1gKy
DTSTART:20201228T170000Z
SEQUENCE:0
TRANSP:OPAQUE
DTEND:20201228T174000Z
URL:https://calendify.com/session/RXEMXqn1gKy
LOCATION:franconian.net
SUMMARY:Your Name Is Invalid!
CLASS:PUBLIC
DESCRIPTION:https://calendify.com/session/RXEMXqn1gKy
DTSTAMP:20260424T042626Z
CREATED:20201221T231541Z
LAST-MODIFIED:20210114T154804Z
END:VEVENT
END:VCALENDAR