BEGIN:VCALENDAR
VERSION:2.0
PRODID:calendify.com
BEGIN:VEVENT
UID:calendify-session-RXEMXqpvgKy
DTSTART:20200905T210000Z
SEQUENCE:0
TRANSP:OPAQUE
DTEND:20200905T220000Z
URL:https://calendify.com/session/RXEMXqpvgKy
LOCATION:Schneider-Hoover
SUMMARY:the mad bitter
CLASS:PUBLIC
DESCRIPTION:https://calendify.com/session/RXEMXqpvgKy
DTSTAMP:20260420T144111Z
CREATED:20200904T143714Z
LAST-MODIFIED:20200904T143714Z
END:VEVENT
END:VCALENDAR