BEGIN:VCALENDAR
VERSION:2.0
PRODID:calendify.com
BEGIN:VEVENT
UID:calendify-session-RXEMXzoZ4Ky
DTSTART:20191227T223000Z
SEQUENCE:0
TRANSP:OPAQUE
DTEND:20191227T233000Z
URL:https://calendify.com/session/RXEMXzoZ4Ky
LOCATION:Ada
SUMMARY:SIM card technology from A-Z
CLASS:PUBLIC
DESCRIPTION:https://calendify.com/session/RXEMXzoZ4Ky
DTSTAMP:20260424T213721Z
CREATED:20200429T014027Z
LAST-MODIFIED:20200429T014027Z
END:VEVENT
END:VCALENDAR