BEGIN:VCALENDAR
VERSION:2.0
PRODID:calendify.com
BEGIN:VEVENT
UID:calendify-session-WGv4Z3LvOZa
DTSTART:20180512T140000Z
SEQUENCE:0
TRANSP:OPAQUE
DTEND:20180512T150000Z
URL:https://calendify.com/session/WGv4Z3LvOZa
LOCATION:ZKM_OpenHUB
SUMMARY:Pilot I: Decentralised Autonomous Organisation eine Diskussion
CLASS:PUBLIC
DESCRIPTION:https://calendify.com/session/WGv4Z3LvOZa
DTSTAMP:20260422T031245Z
CREATED:20200513T011828Z
LAST-MODIFIED:20200513T011828Z
END:VEVENT
END:VCALENDAR