BEGIN:VCALENDAR
VERSION:2.0
PRODID:calendify.com
BEGIN:VEVENT
UID:calendify-session-WGv4Z3YrOZa
DTSTART:20200202T113000Z
SEQUENCE:0
TRANSP:OPAQUE
DTEND:20200202T114000Z
URL:https://calendify.com/session/WGv4Z3YrOZa
LOCATION:UB5.132
SUMMARY:Towards reproducible Jupyter notebooks
CLASS:PUBLIC
DESCRIPTION:https://calendify.com/session/WGv4Z3YrOZa
DTSTAMP:20260423T021532Z
CREATED:20200513T234735Z
LAST-MODIFIED:20210426T093310Z
END:VEVENT
END:VCALENDAR