BEGIN:VCALENDAR
VERSION:2.0
PRODID:calendify.com
BEGIN:VEVENT
UID:calendify-session-WGv4Z3x1OZa
DTSTART:20180510T170000Z
SEQUENCE:0
TRANSP:OPAQUE
DTEND:20180510T180000Z
URL:https://calendify.com/session/WGv4Z3x1OZa
LOCATION:ZKM_Vortragssaal
SUMMARY:Channelizing with GnuRadio
CLASS:PUBLIC
DESCRIPTION:https://calendify.com/session/WGv4Z3x1OZa
DTSTAMP:20260422T031405Z
CREATED:20200513T011827Z
LAST-MODIFIED:20200513T011827Z
END:VEVENT
END:VCALENDAR