BEGIN:VCALENDAR
VERSION:2.0
PRODID:calendify.com
BEGIN:VEVENT
UID:calendify-session-WGv4Z6Xv4Za
DTSTART:20191228T115000Z
SEQUENCE:0
TRANSP:OPAQUE
DTEND:20191228T125000Z
URL:https://calendify.com/session/WGv4Z6Xv4Za
LOCATION:Eliza
SUMMARY:An ultrashort history of ultrafast imaging
CLASS:PUBLIC
DESCRIPTION:https://calendify.com/session/WGv4Z6Xv4Za
DTSTAMP:20260424T101029Z
CREATED:20200429T014059Z
LAST-MODIFIED:20200429T014059Z
END:VEVENT
END:VCALENDAR