BEGIN:VCALENDAR
VERSION:2.0
PRODID:calendify.com
BEGIN:VEVENT
UID:calendify-session-WGv4Z86AMZa
DTSTART:20241228T170000Z
SEQUENCE:0
TRANSP:OPAQUE
DTEND:20241228T190000Z
URL:https://calendify.com/session/WGv4Z86AMZa
LOCATION:Kidspace - Affenfelsen
SUMMARY:Fantastisches Geschichten Erzählen im Kidspace 2.2
CLASS:PUBLIC
DESCRIPTION:https://calendify.com/session/WGv4Z86AMZa
DTSTAMP:20260423T094146Z
CREATED:20241227T141507Z
LAST-MODIFIED:20250101T225003Z
END:VEVENT
END:VCALENDAR