BEGIN:VCALENDAR
VERSION:2.0
PRODID:calendify.com
BEGIN:VEVENT
UID:calendify-session-WGv4Z8vnMZa
DTSTART:20241230T090000Z
SEQUENCE:0
TRANSP:OPAQUE
DTEND:20241230T100000Z
URL:https://calendify.com/session/WGv4Z8vnMZa
LOCATION:SoS Saal E
SUMMARY:Gewaltfreie Kommunikation Workshop
CLASS:PUBLIC
DESCRIPTION:https://calendify.com/session/WGv4Z8vnMZa
DTSTAMP:20260423T084107Z
CREATED:20241227T141515Z
LAST-MODIFIED:20250101T225004Z
END:VEVENT
END:VCALENDAR