BEGIN:VCALENDAR
VERSION:2.0
PRODID:calendify.com
BEGIN:VEVENT
UID:calendify-session-WGv4ZV514Za
DTSTART:20230610T160000Z
SEQUENCE:0
TRANSP:OPAQUE
DTEND:20230610T170000Z
URL:https://calendify.com/session/WGv4ZV514Za
LOCATION:Raum 208 (HFG)
SUMMARY:Missbräuchliche Beziehungen und sexualisierte Gewalt - Wie kann es
  gelingen\, darüber zu sprechen und (als Community) damit umzugehen?
CLASS:PUBLIC
DESCRIPTION:https://calendify.com/session/WGv4ZV514Za
DTSTAMP:20260422T154858Z
CREATED:20230527T091822Z
LAST-MODIFIED:20230611T215002Z
END:VEVENT
END:VCALENDAR