BEGIN:VCALENDAR
VERSION:2.0
PRODID:calendify.com
BEGIN:VEVENT
UID:calendify-session-WGv4ZVR14Za
DTSTART:20220723T103000Z
SEQUENCE:0
TRANSP:OPAQUE
DTEND:20220723T110000Z
URL:https://calendify.com/session/WGv4ZVR14Za
LOCATION:HSNL Village (Muze / NLnet tent)
SUMMARY:HSNL: Funding 101: NLnet and NGI
CLASS:PUBLIC
DESCRIPTION:https://calendify.com/session/WGv4ZVR14Za
DTSTAMP:20260424T072950Z
CREATED:20220725T094112Z
LAST-MODIFIED:20220726T182703Z
END:VEVENT
END:VCALENDAR