BEGIN:VCALENDAR
VERSION:2.0
PRODID:calendify.com
BEGIN:VEVENT
UID:calendify-session-WGv4ZVlp4Za
DTSTART:20230606T141500Z
SEQUENCE:0
TRANSP:OPAQUE
DTEND:20230606T144500Z
URL:https://calendify.com/session/WGv4ZVlp4Za
LOCATION:Stage 4
SUMMARY:Fashion Revolution: Was hat Modeaktivismus mit Cash und Digitalisie
 rung zu tun?
CLASS:PUBLIC
DESCRIPTION:https://calendify.com/session/WGv4ZVlp4Za
DTSTAMP:20260423T120531Z
CREATED:20230604T163809Z
LAST-MODIFIED:20230606T124212Z
END:VEVENT
END:VCALENDAR