BEGIN:VCALENDAR
VERSION:2.0
PRODID:calendify.com
BEGIN:VEVENT
UID:calendify-session-WGv4ZWvGOZa
DTSTART:20171227T173000Z
SEQUENCE:0
TRANSP:OPAQUE
DTEND:20171227T183000Z
URL:https://calendify.com/session/WGv4ZWvGOZa
LOCATION:Saal Clarke
SUMMARY:iOS kernel exploitation archaeology
CLASS:PUBLIC
DESCRIPTION:https://calendify.com/session/WGv4ZWvGOZa
DTSTAMP:20260423T191743Z
CREATED:20200625T113327Z
LAST-MODIFIED:20200625T113327Z
END:VEVENT
END:VCALENDAR