BEGIN:VCALENDAR
VERSION:2.0
PRODID:calendify.com
BEGIN:VEVENT
UID:calendify-session-WGv4ZZ9G4Za
DTSTART:20211227T120000Z
SEQUENCE:0
TRANSP:OPAQUE
DTEND:20211227T140000Z
URL:https://calendify.com/session/WGv4ZZ9G4Za
LOCATION:Haecksen Zur schönen Mary
SUMMARY:Goodie Bag Gefrickel
CLASS:PUBLIC
DESCRIPTION:https://calendify.com/session/WGv4ZZ9G4Za
DTSTAMP:20260420T184951Z
CREATED:20211220T014016Z
LAST-MODIFIED:20211230T225002Z
END:VEVENT
END:VCALENDAR