BEGIN:VCALENDAR
VERSION:2.0
PRODID:calendify.com
BEGIN:VEVENT
UID:calendify-session-WGv4ZZKA4Za
DTSTART:20211228T210000Z
SEQUENCE:0
TRANSP:OPAQUE
DTEND:20211228T220000Z
URL:https://calendify.com/session/WGv4ZZKA4Za
LOCATION:c-base
SUMMARY:Tech Dominatrix. Device control as a fetish.
CLASS:PUBLIC
DESCRIPTION:https://calendify.com/session/WGv4ZZKA4Za
DTSTAMP:20260420T125159Z
CREATED:20211220T014017Z
LAST-MODIFIED:20211230T225002Z
END:VEVENT
END:VCALENDAR