BEGIN:VCALENDAR
VERSION:2.0
PRODID:calendify.com
BEGIN:VEVENT
UID:calendify-session-WGv4ZZLG4Za
DTSTART:20211227T150000Z
SEQUENCE:0
TRANSP:OPAQUE
DTEND:20211227T160000Z
URL:https://calendify.com/session/WGv4ZZLG4Za
LOCATION:ChaosZone TV
SUMMARY:Careables Online Exhibition - See you in Singapore!
CLASS:PUBLIC
DESCRIPTION:https://calendify.com/session/WGv4ZZLG4Za
DTSTAMP:20260420T171004Z
CREATED:20211220T014016Z
LAST-MODIFIED:20211230T225002Z
END:VEVENT
END:VCALENDAR