BEGIN:VCALENDAR
VERSION:2.0
PRODID:calendify.com
BEGIN:VEVENT
UID:calendify-session-WGv4ZZbr4Za
DTSTART:20210316T170000Z
SEQUENCE:0
TRANSP:OPAQUE
DTEND:20210316T180000Z
URL:https://calendify.com/session/WGv4ZZbr4Za
LOCATION:Zoom Room 7A
SUMMARY:Spotlight on Artificial Intelligence & Freedom of Expression: Shapi
 ng Online Content
CLASS:PUBLIC
DESCRIPTION:https://calendify.com/session/WGv4ZZbr4Za
DTSTAMP:20260422T223020Z
CREATED:20210426T094929Z
LAST-MODIFIED:20210426T094929Z
END:VEVENT
END:VCALENDAR