BEGIN:VCALENDAR
VERSION:2.0
PRODID:calendify.com
BEGIN:VEVENT
UID:calendify-session-WGv4ZZem4Za
DTSTART:20210308T133000Z
SEQUENCE:0
TRANSP:OPAQUE
DTEND:20210308T143000Z
URL:https://calendify.com/session/WGv4ZZem4Za
LOCATION:Spatial Chat / Social 1
SUMMARY:Facilitator Coaching Office Hours
CLASS:PUBLIC
DESCRIPTION:https://calendify.com/session/WGv4ZZem4Za
DTSTAMP:20260420T234831Z
CREATED:20210426T094926Z
LAST-MODIFIED:20210426T094926Z
END:VEVENT
END:VCALENDAR