BEGIN:VCALENDAR
VERSION:2.0
PRODID:calendify.com
BEGIN:VEVENT
UID:calendify-session-WGv4ZZvz4Za
DTSTART:20210319T143000Z
SEQUENCE:0
TRANSP:OPAQUE
DTEND:20210319T173000Z
URL:https://calendify.com/session/WGv4ZZvz4Za
LOCATION:Spatial Chat / Social 1
SUMMARY:Cultural Party
CLASS:PUBLIC
DESCRIPTION:https://calendify.com/session/WGv4ZZvz4Za
DTSTAMP:20260422T234307Z
CREATED:20210426T094931Z
LAST-MODIFIED:20210426T094931Z
END:VEVENT
END:VCALENDAR