BEGIN:VCALENDAR
VERSION:2.0
PRODID:calendify.com
BEGIN:VEVENT
UID:calendify-session-WGv4ZZxq4Za
DTSTART:20211025T220000Z
SEQUENCE:0
TRANSP:OPAQUE
DTEND:20211026T215500Z
URL:https://calendify.com/session/WGv4ZZxq4Za
LOCATION:Kunst 3
SUMMARY:PApTCHA: Partially Automated private Turing test to tell Computers 
 and Humans Apart
CLASS:PUBLIC
DESCRIPTION:https://calendify.com/session/WGv4ZZxq4Za
DTSTAMP:20260423T200711Z
CREATED:20211025T105003Z
LAST-MODIFIED:20211101T215003Z
END:VEVENT
END:VCALENDAR