BEGIN:VCALENDAR
VERSION:2.0
PRODID:calendify.com
BEGIN:VEVENT
UID:calendify-session-WGv4ZbEz4Za
DTSTART:20220521T181500Z
SEQUENCE:0
TRANSP:OPAQUE
DTEND:20220521T191500Z
URL:https://calendify.com/session/WGv4ZbEz4Za
LOCATION:Vortragssaal
SUMMARY:Datenökonomie im Gesundheitsdatenraum - muss das sein?
CLASS:PUBLIC
DESCRIPTION:https://calendify.com/session/WGv4ZbEz4Za
DTSTAMP:20260422T204219Z
CREATED:20220502T005752Z
LAST-MODIFIED:20220521T215002Z
END:VEVENT
END:VCALENDAR