BEGIN:VCALENDAR
VERSION:2.0
PRODID:calendify.com
BEGIN:VEVENT
UID:calendify-session-WGv4ZbaA4Za
DTSTART:20220610T080000Z
SEQUENCE:0
TRANSP:OPAQUE
DTEND:20220610T090000Z
URL:https://calendify.com/session/WGv4ZbaA4Za
LOCATION:Hoppetosse: Sonnendeck
SUMMARY:Bits & Bäume Community-Treff. Wie wir für eine nachhaltige\, geme
 inwohlorientierte und demokratische Digitalisierung streiten.
CLASS:PUBLIC
DESCRIPTION:https://calendify.com/session/WGv4ZbaA4Za
DTSTAMP:20260424T035627Z
CREATED:20220526T162947Z
LAST-MODIFIED:20220613T235204Z
END:VEVENT
END:VCALENDAR