BEGIN:VCALENDAR
VERSION:2.0
PRODID:calendify.com
BEGIN:VEVENT
UID:calendify-session-WGv4Zbeq4Za
DTSTART:20220206T094000Z
SEQUENCE:0
TRANSP:OPAQUE
DTEND:20220206T100000Z
URL:https://calendify.com/session/WGv4Zbeq4Za
LOCATION:D.dependency
SUMMARY:Developing an open source license compliance project : our trials\,
  tribulations and achievements
CLASS:PUBLIC
DESCRIPTION:https://calendify.com/session/WGv4Zbeq4Za
DTSTAMP:20260422T153528Z
CREATED:20220120T214609Z
LAST-MODIFIED:20220206T225004Z
END:VEVENT
END:VCALENDAR