BEGIN:VCALENDAR
VERSION:2.0
PRODID:calendify.com
BEGIN:VEVENT
UID:calendify-session-WGv4ZbzA4Za
DTSTART:20220608T100000Z
SEQUENCE:0
TRANSP:OPAQUE
DTEND:20220608T104500Z
URL:https://calendify.com/session/WGv4ZbzA4Za
LOCATION:Get a Job-Area
SUMMARY:Coffee Chat: Zukunft der Arbeit? Ihr seid gefragt.
CLASS:PUBLIC
DESCRIPTION:https://calendify.com/session/WGv4ZbzA4Za
DTSTAMP:20260425T123109Z
CREATED:20220526T162948Z
LAST-MODIFIED:20220613T235204Z
END:VEVENT
END:VCALENDAR