BEGIN:VCALENDAR
VERSION:2.0
PRODID:calendify.com
BEGIN:VEVENT
UID:calendify-session-WGv4ZjBz4Za
DTSTART:20260201T080000Z
SEQUENCE:0
TRANSP:OPAQUE
DTEND:20260201T081500Z
URL:https://calendify.com/session/WGv4ZjBz4Za
LOCATION:H.2215 (Ferrer)
SUMMARY:Why Open Source Looks Different in China: When Vendor Strategies\, 
 Policy Signals\, and Market Pressure Converge
CLASS:PUBLIC
DESCRIPTION:https://calendify.com/session/WGv4ZjBz4Za
DTSTAMP:20260424T024959Z
CREATED:20260131T063315Z
LAST-MODIFIED:20260201T163231Z
END:VEVENT
END:VCALENDAR