BEGIN:VCALENDAR
VERSION:2.0
PRODID:calendify.com
BEGIN:VEVENT
UID:calendify-session-WGv4ZjbG4Za
DTSTART:20260131T123000Z
SEQUENCE:0
TRANSP:OPAQUE
DTEND:20260131T130000Z
URL:https://calendify.com/session/WGv4ZjbG4Za
LOCATION:H.1309 (Van Rijn)
SUMMARY:The Web Platform on Linux devices with WebKit: where are we now?
CLASS:PUBLIC
DESCRIPTION:https://calendify.com/session/WGv4ZjbG4Za
DTSTAMP:20260424T062319Z
CREATED:20260131T063245Z
LAST-MODIFIED:20260201T163222Z
END:VEVENT
END:VCALENDAR