BEGIN:VCALENDAR
VERSION:2.0
PRODID:calendify.com
BEGIN:VEVENT
UID:calendify-session-WGv4ZnEG4Za
DTSTART:20210207T153500Z
SEQUENCE:0
TRANSP:OPAQUE
DTEND:20210207T160000Z
URL:https://calendify.com/session/WGv4ZnEG4Za
LOCATION:D.web.performance
SUMMARY:Making RUM Responsive
CLASS:PUBLIC
DESCRIPTION:https://calendify.com/session/WGv4ZnEG4Za
DTSTAMP:20260423T215120Z
CREATED:20210111T170320Z
LAST-MODIFIED:20210208T224804Z
END:VEVENT
END:VCALENDAR