BEGIN:VCALENDAR
VERSION:2.0
PRODID:calendify.com
BEGIN:VEVENT
UID:calendify-session-WGv4ZnLp4Za
DTSTART:20210207T161500Z
SEQUENCE:0
TRANSP:OPAQUE
DTEND:20210207T164000Z
URL:https://calendify.com/session/WGv4ZnLp4Za
LOCATION:D.cad
SUMMARY:Alliance / Coriolis2
CLASS:PUBLIC
DESCRIPTION:https://calendify.com/session/WGv4ZnLp4Za
DTSTAMP:20260424T050505Z
CREATED:20210114T155443Z
LAST-MODIFIED:20210208T224803Z
END:VEVENT
END:VCALENDAR