BEGIN:VCALENDAR
VERSION:2.0
PRODID:calendify.com
BEGIN:VEVENT
UID:calendify-session-WGv4ZnVv4Za
DTSTART:20210206T150000Z
SEQUENCE:0
TRANSP:OPAQUE
DTEND:20210206T160000Z
URL:https://calendify.com/session/WGv4ZnVv4Za
LOCATION:D.postgresql
SUMMARY:Postgres and the Artificial Intelligence Landscape
CLASS:PUBLIC
DESCRIPTION:https://calendify.com/session/WGv4ZnVv4Za
DTSTAMP:20260422T111130Z
CREATED:20210111T170319Z
LAST-MODIFIED:20210208T224802Z
END:VEVENT
END:VCALENDAR