BEGIN:VCALENDAR
VERSION:2.0
PRODID:calendify.com
BEGIN:VEVENT
UID:calendify-session-WGv4Znbv4Za
DTSTART:20210206T151000Z
SEQUENCE:0
TRANSP:OPAQUE
DTEND:20210206T153500Z
URL:https://calendify.com/session/WGv4Znbv4Za
LOCATION:D.mariadb
SUMMARY:MariaDB Observability
CLASS:PUBLIC
DESCRIPTION:https://calendify.com/session/WGv4Znbv4Za
DTSTAMP:20260424T003146Z
CREATED:20210111T170319Z
LAST-MODIFIED:20210208T224802Z
END:VEVENT
END:VCALENDAR