BEGIN:VCALENDAR
VERSION:2.0
PRODID:calendify.com
BEGIN:VEVENT
UID:calendify-session-WGv4Znmr4Za
DTSTART:20210207T134500Z
SEQUENCE:0
TRANSP:OPAQUE
DTEND:20210207T144500Z
URL:https://calendify.com/session/WGv4Znmr4Za
LOCATION:D.perl
SUMMARY:Advent of Code - Behind the Scenes
CLASS:PUBLIC
DESCRIPTION:https://calendify.com/session/WGv4Znmr4Za
DTSTAMP:20260423T135150Z
CREATED:20210127T190822Z
LAST-MODIFIED:20210208T224804Z
END:VEVENT
END:VCALENDAR