BEGIN:VCALENDAR
VERSION:2.0
PRODID:calendify.com
BEGIN:VEVENT
UID:calendify-session-WGv4Znxm4Za
DTSTART:20210206T140000Z
SEQUENCE:0
TRANSP:OPAQUE
DTEND:20210206T142500Z
URL:https://calendify.com/session/WGv4Znxm4Za
LOCATION:D.rtc
SUMMARY:FreeSWITCH mid-registering for Fun\, Profit\, Scale and Push
CLASS:PUBLIC
DESCRIPTION:https://calendify.com/session/WGv4Znxm4Za
DTSTAMP:20260420T012637Z
CREATED:20210113T115146Z
LAST-MODIFIED:20210208T224803Z
END:VEVENT
END:VCALENDAR