BEGIN:VCALENDAR
VERSION:2.0
PRODID:calendify.com
BEGIN:VEVENT
UID:calendify-session-WGv4Zo81OZa
DTSTART:20240921T120000Z
SEQUENCE:0
TRANSP:OPAQUE
DTEND:20240921T124500Z
URL:https://calendify.com/session/WGv4Zo81OZa
LOCATION:Henny Brenner Saal
SUMMARY:CRA and friends: EU product\, service and software regulation
CLASS:PUBLIC
DESCRIPTION:https://calendify.com/session/WGv4Zo81OZa
DTSTAMP:20260421T010732Z
CREATED:20241208T220338Z
LAST-MODIFIED:20241208T220338Z
END:VEVENT
END:VCALENDAR