BEGIN:VCALENDAR
VERSION:2.0
PRODID:calendify.com
BEGIN:VEVENT
UID:calendify-session-WGv4ZoZrOZa
DTSTART:20241228T193000Z
SEQUENCE:0
TRANSP:OPAQUE
DTEND:20241228T203000Z
URL:https://calendify.com/session/WGv4ZoZrOZa
LOCATION:Saal GLITCH
SUMMARY:Vectors\, Pixels\, Plotters and Public Participation
CLASS:PUBLIC
DESCRIPTION:https://calendify.com/session/WGv4ZoZrOZa
DTSTAMP:20260423T191843Z
CREATED:20241208T214808Z
LAST-MODIFIED:20250101T225002Z
END:VEVENT
END:VCALENDAR