BEGIN:VCALENDAR
VERSION:2.0
PRODID:calendify.com
BEGIN:VEVENT
UID:calendify-session-WGv4ZojvOZa
DTSTART:20240922T111500Z
SEQUENCE:0
TRANSP:OPAQUE
DTEND:20240922T120000Z
URL:https://calendify.com/session/WGv4ZojvOZa
LOCATION:IZ
SUMMARY:RAG-System to build a specelized AI systems.
CLASS:PUBLIC
DESCRIPTION:https://calendify.com/session/WGv4ZojvOZa
DTSTAMP:20260420T233554Z
CREATED:20241208T220338Z
LAST-MODIFIED:20241208T220338Z
END:VEVENT
END:VCALENDAR