BEGIN:VCALENDAR
VERSION:2.0
PRODID:calendify.com
BEGIN:VEVENT
UID:calendify-session-WGv4Zv1n4Za
DTSTART:20230609T180000Z
SEQUENCE:0
TRANSP:OPAQUE
DTEND:20230609T190000Z
URL:https://calendify.com/session/WGv4Zv1n4Za
LOCATION:ZKM Seminarraum
SUMMARY:AutiSession - Wie behindernd ist Bürokratie? Tipps und Schauergesc
 hichten aus dem Amt
CLASS:PUBLIC
DESCRIPTION:https://calendify.com/session/WGv4Zv1n4Za
DTSTAMP:20260425T202442Z
CREATED:20230605T220002Z
LAST-MODIFIED:20230611T215002Z
END:VEVENT
END:VCALENDAR