BEGIN:VCALENDAR
VERSION:2.0
PRODID:calendify.com
BEGIN:VEVENT
UID:calendify-session-WGv4Zv5r4Za
DTSTART:20231227T200000Z
SEQUENCE:0
TRANSP:OPAQUE
DTEND:20231227T210000Z
URL:https://calendify.com/session/WGv4Zv5r4Za
LOCATION:FOSS-HW Workshop Area [CDC Saal 3]
SUMMARY:Getting started with Pocket Science Lab (Alex Bessman\, Marco A. Gu
 tierrez)
CLASS:PUBLIC
DESCRIPTION:https://calendify.com/session/WGv4Zv5r4Za
DTSTAMP:20260423T060741Z
CREATED:20231226T160002Z
LAST-MODIFIED:20240401T142932Z
END:VEVENT
END:VCALENDAR