BEGIN:VCALENDAR
VERSION:2.0
PRODID:calendify.com
BEGIN:VEVENT
UID:calendify-session-WGv4Zv7z4Za
DTSTART:20231228T134500Z
SEQUENCE:0
TRANSP:OPAQUE
DTEND:20231228T144500Z
URL:https://calendify.com/session/WGv4Zv7z4Za
LOCATION:cyber4EDU Assembly
SUMMARY:cyber4EDU (Zu-)Hörstunde - Fokus Oberschule
CLASS:PUBLIC
DESCRIPTION:https://calendify.com/session/WGv4Zv7z4Za
DTSTAMP:20260420T153626Z
CREATED:20231228T111003Z
LAST-MODIFIED:20240401T142932Z
END:VEVENT
END:VCALENDAR