BEGIN:VCALENDAR
VERSION:2.0
PRODID:calendify.com
BEGIN:VEVENT
UID:calendify-session-WGv4ZvKn4Za
DTSTART:20231228T090000Z
SEQUENCE:0
TRANSP:OPAQUE
DTEND:20231228T100000Z
URL:https://calendify.com/session/WGv4ZvKn4Za
LOCATION:Saal E
SUMMARY:The Origin of Most Problems
CLASS:PUBLIC
DESCRIPTION:https://calendify.com/session/WGv4ZvKn4Za
DTSTAMP:20260423T030845Z
CREATED:20231226T003002Z
LAST-MODIFIED:20240401T142932Z
END:VEVENT
END:VCALENDAR